BEGIN:VCALENDAR
VERSION:2.0
PRODID:-//Sight Concern - ECPv6.8.3//NONSGML v1.0//EN
CALSCALE:GREGORIAN
METHOD:PUBLISH
X-ORIGINAL-URL:https://www.sightconcern.co.uk
X-WR-CALDESC:Events for Sight Concern
REFRESH-INTERVAL;VALUE=DURATION:PT1H
X-Robots-Tag:noindex
X-PUBLISHED-TTL:PT1H
BEGIN:VTIMEZONE
TZID:Europe/London
BEGIN:DAYLIGHT
TZOFFSETFROM:+0000
TZOFFSETTO:+0100
TZNAME:BST
DTSTART:20240331T010000
END:DAYLIGHT
BEGIN:STANDARD
TZOFFSETFROM:+0100
TZOFFSETTO:+0000
TZNAME:GMT
DTSTART:20241027T010000
END:STANDARD
END:VTIMEZONE
BEGIN:VEVENT
DTSTART;TZID=Europe/London:20240108T140000
DTEND;TZID=Europe/London:20240108T160000
DTSTAMP:20260424T175627
CREATED:20240109T094447Z
LAST-MODIFIED:20240109T094447Z
UID:12751-1704722400-1704729600@www.sightconcern.co.uk
SUMMARY:Redditch Connections Group
DESCRIPTION:
URL:https://www.sightconcern.co.uk/event/redditch-connections-group-3/
LOCATION:Christ Church\, Matchborough\, Ryton Close\, Redditch\, B98 0EW
END:VEVENT
BEGIN:VEVENT
DTSTART;TZID=Europe/London:20240109T140000
DTEND;TZID=Europe/London:20240109T160000
DTSTAMP:20260424T175627
CREATED:20240109T094249Z
LAST-MODIFIED:20240109T094249Z
UID:12748-1704808800-1704816000@www.sightconcern.co.uk
SUMMARY:Malvern Connections Group
DESCRIPTION:
URL:https://www.sightconcern.co.uk/event/malvern-connections-group-5/
LOCATION:Malvern Link United Reform Church\,\, Worcester Road\, Malvern\, WR14 1SS
END:VEVENT
BEGIN:VEVENT
DTSTART;TZID=Europe/London:20240116T133000
DTEND;TZID=Europe/London:20240116T153000
DTSTAMP:20260424T175627
CREATED:20240109T094636Z
LAST-MODIFIED:20240109T094636Z
UID:12753-1705411800-1705419000@www.sightconcern.co.uk
SUMMARY:Evesham Connections Group
DESCRIPTION:
URL:https://www.sightconcern.co.uk/event/evesham-connections-group-5/
LOCATION:St. Marys Catholic Church Community Hall\, High street\, Evesham\, WR11 4EG
END:VEVENT
BEGIN:VEVENT
DTSTART;TZID=Europe/London:20240123T100000
DTEND;TZID=Europe/London:20240123T120000
DTSTAMP:20260424T175627
CREATED:20240109T094922Z
LAST-MODIFIED:20240109T094922Z
UID:12755-1706004000-1706011200@www.sightconcern.co.uk
SUMMARY:Wyre Forest Connections Group
DESCRIPTION:
URL:https://www.sightconcern.co.uk/event/wyre-forest-connections-group-4/
LOCATION:Kidderminster Museum of Carpet\, Stour Vale Mill\, Green Street\, Kidderminster DY10 1AZ
END:VEVENT
BEGIN:VEVENT
DTSTART;TZID=Europe/London:20240129T140000
DTEND;TZID=Europe/London:20240129T160000
DTSTAMP:20260424T175627
CREATED:20240109T094008Z
LAST-MODIFIED:20240109T094008Z
UID:12746-1706536800-1706544000@www.sightconcern.co.uk
SUMMARY:Worcester Connections Group
DESCRIPTION:
URL:https://www.sightconcern.co.uk/event/worcester-connections-group-7/
LOCATION:Sight Concern Worcestershire\, The Bradbury Centre\, 2 Sansome walk\, Worcester WR1 1LH
END:VEVENT
END:VCALENDAR