BEGIN:VCALENDAR
VERSION:2.0
PRODID:-//Sight Concern - ECPv6.8.3//NONSGML v1.0//EN
CALSCALE:GREGORIAN
METHOD:PUBLISH
X-ORIGINAL-URL:https://www.sightconcern.co.uk
X-WR-CALDESC:Events for Sight Concern
REFRESH-INTERVAL;VALUE=DURATION:PT1H
X-Robots-Tag:noindex
X-PUBLISHED-TTL:PT1H
BEGIN:VTIMEZONE
TZID:Europe/London
BEGIN:DAYLIGHT
TZOFFSETFROM:+0000
TZOFFSETTO:+0100
TZNAME:BST
DTSTART:20230326T010000
END:DAYLIGHT
BEGIN:STANDARD
TZOFFSETFROM:+0100
TZOFFSETTO:+0000
TZNAME:GMT
DTSTART:20231029T010000
END:STANDARD
END:VTIMEZONE
BEGIN:VEVENT
DTSTART;TZID=Europe/London:20231116T103000
DTEND;TZID=Europe/London:20231116T123000
DTSTAMP:20260421T161442
CREATED:20231115T161804Z
LAST-MODIFIED:20231115T161804Z
UID:11972-1700130600-1700137800@www.sightconcern.co.uk
SUMMARY:CBS Awareness Coffee Morning
DESCRIPTION:Join us on the 16th November\, Charles Bonnet Awareness Day\, for a coffee morning where you and your family are invited to pop in for coffee and cake and share your experiences with each other. The Bradbury Centre\, 2 Sansome Walk\, Worcester WR1 1LH Thursday 16th November 10.30am-12.30pm – no need to book\, just turn up on the day. Email info@sightconcern.co.uk or call 01905 723 245 for more details.
URL:https://www.sightconcern.co.uk/event/cbs-awareness-coffee-morning/
LOCATION:Sight Concern Worcestershire\, The Bradbury Centre\, 2 Sansome walk\, Worcester WR1 1LH
END:VEVENT
END:VCALENDAR