BEGIN:VCALENDAR
VERSION:2.0
PRODID:-//Sight Concern - ECPv6.8.3//NONSGML v1.0//EN
CALSCALE:GREGORIAN
METHOD:PUBLISH
X-WR-CALNAME:Sight Concern
X-ORIGINAL-URL:https://www.sightconcern.co.uk
X-WR-CALDESC:Events for Sight Concern
REFRESH-INTERVAL;VALUE=DURATION:PT1H
X-Robots-Tag:noindex
X-PUBLISHED-TTL:PT1H
BEGIN:VTIMEZONE
TZID:Europe/London
BEGIN:DAYLIGHT
TZOFFSETFROM:+0000
TZOFFSETTO:+0100
TZNAME:BST
DTSTART:20230326T010000
END:DAYLIGHT
BEGIN:STANDARD
TZOFFSETFROM:+0100
TZOFFSETTO:+0000
TZNAME:GMT
DTSTART:20231029T010000
END:STANDARD
END:VTIMEZONE
BEGIN:VEVENT
DTSTART;TZID=Europe/London:20230214T140000
DTEND;TZID=Europe/London:20230214T160000
DTSTAMP:20260419T184822
CREATED:20230206T122352Z
LAST-MODIFIED:20230206T123027Z
UID:9091-1676383200-1676390400@www.sightconcern.co.uk
SUMMARY:Malvern Connections Group
DESCRIPTION:This month our Malvern Connections Group will be serving up a lovely Valentines Day afternoon tea – so come and join us for plenty of tea\, cake and great company as ever! Open to anyone with a visual impairment living in the Malvern area. \nOur informal Connections Groups take place monthly across several locations. These sociable meetups are the perfect way to connect with and learn from other people living with a visual impairment in your local area. \n 
URL:https://www.sightconcern.co.uk/event/malvern-connections-group-2/
LOCATION:The Guesten Room at Lyttleton Well\, Chrurch Street\, Malvern\, WR14 2AY
END:VEVENT
BEGIN:VEVENT
DTSTART;TZID=Europe/London:20230214T140000
DTEND;TZID=Europe/London:20230214T160000
DTSTAMP:20260419T184822
CREATED:20230208T120941Z
LAST-MODIFIED:20230208T121425Z
UID:9102-1676383200-1676390400@www.sightconcern.co.uk
SUMMARY:Malvern Connections Group
DESCRIPTION:This month\, our Malvern Connections Group will be treated to a lovely afternoon tea\, so if you love tea and cake\, join us on Valentines Day\, Tuesday 14th February in the warmth of the Guesten Room\, The Lyttleton Well\, 6 Church Street\, Malvern WR14 2AY\, from 2:00 pm until 4:00 pm. \nOur informal Connections Groups take place monthly across several locations. The groups often include activities or a guest speaker\, so there’s always something new\, fun\, and interesting going on.
URL:https://www.sightconcern.co.uk/event/malvern-connections-group-3/
LOCATION:Guesten Room at Lyttelton Well\, 6 Church St\, Malvern WR14 2AY
ORGANIZER;CN="Sight Concern":MAILTO:info@sightconcern.co.uk
END:VEVENT
END:VCALENDAR